BEGIN:VCALENDAR
VERSION:2.0
PRODID:-//Squarespace Inc/Squarespace 6//v6//EN
BEGIN:VEVENT
UID:5c0ac06940ec9afd6f8d7703@squarespace.com
DTSTAMP:20181217T020408Z
DTSTART:20181223T021500Z
DTEND:20181223T024500Z
SUMMARY:57 Matarikoriko Road
GEO:-39.033416;174.238096
LOCATION:57 Matarikoriko Road\, Brixton\, Taranaki\, 4382\, New Zealand
END:VEVENT
END:VCALENDAR
