BEGIN:VCALENDAR
VERSION:2.0
PRODID:-//Squarespace Inc/Squarespace 6//v6//EN
BEGIN:VEVENT
UID:5c0603156d2a738c0e5ff5f9@squarespace.com
DTSTAMP:20181204T043714Z
DTSTART:20181208T220000Z
DTEND:20181208T223000Z
SUMMARY:265/277/281 Barrett Road
GEO:-39.093812;174.034545
LOCATION:Barrett Road\, New Plymouth\, New Zealand
END:VEVENT
END:VCALENDAR
