BEGIN:VCALENDAR
VERSION:2.0
PRODID:-//Squarespace Inc/Squarespace 6//v6//EN
BEGIN:VEVENT
UID:5c0abfaec2241b2bd5f23049@squarespace.com
DTSTAMP:20181211T011046Z
DTSTART:20181216T031500Z
DTEND:20181216T034500Z
SUMMARY:112 Smart Road
GEO:40.720756;-74.000761
LOCATION:112 Smart Road\, New Plymouth\, Taranaki\, 4312\, New Zealand
END:VEVENT
END:VCALENDAR
