BEGIN:VCALENDAR
VERSION:2.0
PRODID:-//Squarespace Inc/Squarespace 6//v6//EN
BEGIN:VEVENT
UID:5bfe34d7f950b7627af8832c@squarespace.com
DTSTAMP:20181217T015944Z
DTSTART:20181222T220000Z
DTEND:20181222T223000Z
SUMMARY:36 Wesley Avenue
GEO:-39.089219;174.066314
LOCATION:36 Wesley Avenue\, New Plymouth\, New Zealand
END:VEVENT
END:VCALENDAR
