BEGIN:VCALENDAR
VERSION:2.0
PRODID:-//Squarespace Inc/Squarespace 6//v6//EN
BEGIN:VEVENT
UID:5c0eb3a20ebbe8104e642b23@squarespace.com
DTSTAMP:20181217T020354Z
DTSTART:20181223T011500Z
DTEND:20181223T014500Z
SUMMARY:130 Wortley Road
GEO:-39.079206;174.210007
LOCATION:130 Wortley Road\, Lepperton\, Taranaki\, 4373\, New Zealand
END:VEVENT
END:VCALENDAR
