BEGIN:VCALENDAR
VERSION:2.0
PRODID:-//Squarespace Inc/Squarespace 6//v6//EN
BEGIN:VEVENT
UID:5be2839bf950b7097286ac5f@squarespace.com
DTSTAMP:20181107T062028Z
DTSTART:20181111T030000Z
DTEND:20181111T033000Z
SUMMARY:419 Devon Street West
GEO:-39.064723;174.052166
LOCATION:419 Devon Street West\, New Plymouth\, Taranaki\, 4310\, New Zeala
 nd
END:VEVENT
END:VCALENDAR
