BEGIN:VCALENDAR
VERSION:2.0
PRODID:-//Squarespace Inc/Squarespace 6//v6//EN
BEGIN:VEVENT
UID:5bf4f5976d2a7333a50bd9d9@squarespace.com
DTSTAMP:20181217T020220Z
DTSTART:20181222T141500Z
DTEND:20181222T144500Z
SUMMARY:36 Rosendale Avenue
GEO:-39.069461;174.03079
LOCATION:36 Rosendale Avenue\, New Plymouth\, New Zealand
END:VEVENT
END:VCALENDAR
