BEGIN:VCALENDAR
VERSION:2.0
PRODID:-//Squarespace Inc/Squarespace 6//v6//EN
BEGIN:VEVENT
UID:5bebbd666d2a73b65ae54c1a@squarespace.com
DTSTAMP:20181217T020154Z
DTSTART:20181223T011500Z
DTEND:20181223T014500Z
SUMMARY:421 Devon Street West
GEO:-39.064739;174.05204
LOCATION:421 Devon Street West\, New Plymouth\, Taranaki
END:VEVENT
END:VCALENDAR
