BEGIN:VCALENDAR
VERSION:2.0
PRODID:-//Squarespace Inc/Squarespace 6//v6//EN
BEGIN:VEVENT
UID:5bebbe80b8a0453e2e1f66ec@squarespace.com
DTSTAMP:20181217T020337Z
DTSTART:20181223T001500Z
DTEND:20181223T004500Z
SUMMARY:287 Lincoln Road
GEO:40.720756;-74.000761
LOCATION:287 Lincoln Road\, Inglewood\, New Zealand
END:VEVENT
END:VCALENDAR
