BEGIN:VCALENDAR
VERSION:2.0
PRODID:-//Squarespace Inc/Squarespace 6//v6//EN
BEGIN:VEVENT
UID:5be2845821c67cc526a7ba21@squarespace.com
DTSTAMP:20181217T020256Z
DTSTART:20181222T220000Z
DTEND:20181222T223000Z
SUMMARY:739 Carrington Road
GEO:-39.119578;174.08482
LOCATION:739 Carrington Road\, New Plymouth\, New Zealand
END:VEVENT
END:VCALENDAR
