BEGIN:VCALENDAR
VERSION:2.0
PRODID:-//Squarespace Inc/Squarespace 6//v6//EN
BEGIN:VEVENT
UID:5be281e2562fa7cd60ea86b1@squarespace.com
DTSTAMP:20181217T020101Z
DTSTART:20181223T003000Z
DTEND:20181223T010000Z
SUMMARY:71 Hine Street
GEO:-39.058177;174.061114
LOCATION:71 Hine Street\, New Plymouth\, New Zealand
END:VEVENT
END:VCALENDAR
