BEGIN:VCALENDAR
VERSION:2.0
PRODID:-//Squarespace Inc/Squarespace 6//v6//EN
BEGIN:VEVENT
UID:5be2807cc2241b5200134190@squarespace.com
DTSTAMP:20181217T020027Z
DTSTART:20181222T234500Z
DTEND:20181223T001500Z
SUMMARY:5/32 Cowling Road
GEO:-39.090148;174.049797
LOCATION:5/32 Cowling Road\, New Plymouth\, New Zealand
END:VEVENT
END:VCALENDAR
