BEGIN:VCALENDAR
VERSION:2.0
PRODID:-//Squarespace Inc/Squarespace 6//v6//EN
BEGIN:VEVENT
UID:5be28293758d46f46f8a6ee8@squarespace.com
DTSTAMP:20181107T062059Z
DTSTART:20181111T023000Z
DTEND:20181111T030000Z
SUMMARY:417 Devon Street West
GEO:-39.064643;174.052286
LOCATION:417 Devon Street West\, New Plymouth\, Taranaki\, 4310\, New Zeala
 nd
END:VEVENT
END:VCALENDAR
