BEGIN:VCALENDAR
VERSION:2.0
PRODID:-//Squarespace Inc/Squarespace 6//v6//EN
BEGIN:VEVENT
UID:5be2867f0e2e729f91af4bf6@squarespace.com
DTSTAMP:20181217T020421Z
DTSTART:20181223T031500Z
DTEND:20181223T034500Z
SUMMARY:330 Kelly Road
GEO:-39.064649;174.234706
LOCATION:330 Kelly Road\, Lepperton\, New Zealand
END:VEVENT
END:VCALENDAR
