BEGIN:VCALENDAR
VERSION:2.0
PRODID:-//Squarespace Inc/Squarespace 6//v6//EN
BEGIN:VEVENT
UID:5be28739562fa7cd60eaabe1@squarespace.com
DTSTAMP:20181127T234502Z
DTSTART:20181202T030000Z
DTEND:20181202T033000Z
SUMMARY:312b Hurford Road
GEO:-39.128861;174.01543
LOCATION:312b Hurford Road\, Omata\, New Zealand
END:VEVENT
END:VCALENDAR
