BEGIN:VCALENDAR
VERSION:2.0
PRODID:-//Squarespace Inc/Squarespace 6//v6//EN
BEGIN:VEVENT
UID:5be2810bc2241b52001345b0@squarespace.com
DTSTAMP:20181121T060156Z
DTSTART:20181125T003000Z
DTEND:20181125T010000Z
SUMMARY:30 Hurdon Street
GEO:-39.089069;174.048887
LOCATION:30 Hurdon Street\, New Plymouth\, Taranaki\, 4310\, New Zealand
END:VEVENT
END:VCALENDAR
