BEGIN:VCALENDAR
VERSION:2.0
PRODID:-//Squarespace Inc/Squarespace 6//v6//EN
BEGIN:VEVENT
UID:5be284fd88251bc6606a2ac5@squarespace.com
DTSTAMP:20181217T020316Z
DTSTART:20181222T231500Z
DTEND:20181222T234500Z
SUMMARY:268 Tariki Road
GEO:-39.195556;174.322654
LOCATION:268 Tariki Road\, Inglewood\, New Zealand
END:VEVENT
END:VCALENDAR
