BEGIN:VCALENDAR
VERSION:2.0
PRODID:-//Squarespace Inc/Squarespace 6//v6//EN
BEGIN:VEVENT
UID:5be285a2352f5349890f9554@squarespace.com
DTSTAMP:20181204T043100Z
DTSTART:20181209T021500Z
DTEND:20181209T024500Z
SUMMARY:1408b Devon Road
GEO:-39.011411;174.230691
LOCATION:1408b Deovon Road\, New Plymouth\, New Zealand
END:VEVENT
END:VCALENDAR
