BEGIN:VCALENDAR
VERSION:2.0
PRODID:-//Squarespace Inc/Squarespace 6//v6//EN
BEGIN:VEVENT
UID:5ba016784fa51a4329452754@squarespace.com
DTSTAMP:20181217T020005Z
DTSTART:20181222T230000Z
DTEND:20181222T233000Z
SUMMARY:1/32 Cowling Road
GEO:-39.090148;174.049797
LOCATION:1/32 Cowling Road\, New Plymouth\, New Zealand
END:VEVENT
END:VCALENDAR
